BEGIN:VCALENDAR
VERSION:2.0
PRODID:-//hacksw/handcal//NONSGML v1.0//EN
BEGIN:VEVENT
SUMMARY:Cross de Limoges Uzurat (87)
UID:01383efc-a14d-40cc-be7f-af4b303cfb53
DTSTART:20211212T083000Z
DTEND:20211212T230000Z
LOCATION:Localisation Lac Uzurat 87100 Limoges
CATEGORIES:Sportif
STATUS:
DESCRIPTION:<p><a
 href="http://limoges.athle.org/upload/ssites/000087/cross_de_limoges/dernier_plan_uzurat_20212.jpg"
 target="_blank" rel="noreferrer noopener">Parcours</a></p>
 
 <p><a
 href="http://limoges.athle.org/upload/ssites/000087/cross_de_limoges/bulletin_inscription_cross_limoges_2021.pdf"
 target="_blank" rel="noreferrer noopener">Bulletin
 d'inscription</a></p>
 
 <p><a
 href="http://limoges.athle.org/upload/ssites/000087/cross_de_limoges/reglement_cross_2021__1_.pdf"
 target="_blank" rel="noreferrer
 noopener">Reglement</a></p>
 
 <p>Marche Nordique : 10H - 11370
 m</p>
 
 <p>Sport Adapte D2-D3 : 12H - 872 m</p>
 
 <p>Eveil Athle F :
 12H15 - 872 m</p>
 
 <p>Eveil Athle M : 12H25 - 872 m</p>
 
 <p>Poussines
 : 12H35 - 1458 m</p>
 
 <p>Poussins : 12H55 - 1458 m</p>
 
 <p>Benjamines
 : 13H10 - 1956 m</p>
 
 <p>Benjamins & Minimes F : 13H30 - 2265
 m</p>
 
 <p>Minimes M / Cadettes/Cross court F : 13H50 - 2790
 m</p>
 
 <p>Cadets/ Juniors F / Cross court M / Sport adapte D1 : 14H10
 - 3620 m</p>
 
 <p>Cross des AS F / Masters F 2-3-4 / Juniors M : 14h40
 - 5616 m</p>
 
 <p>Cross des AS M / Masters M 0-1-2  : 15h10 - 9958
 m</p>
 
 <p>Masters M  de 3 a 10 : 15H10 - 6732 m</p>
 
URL;VALUE=URI:https://www.bordsdeviennetriathlon.com/evenements/2021/12/12/cross-de-limoges-uzurat-87-1539847
END:VEVENT
END:VCALENDAR
