BEGIN:VCALENDAR
VERSION:2.0
PRODID:-//hacksw/handcal//NONSGML v1.0//EN
BEGIN:VEVENT
SUMMARY:Natation Aquapolis +/- course a pied - ***voir sondage***
UID:37d591ca-0bc8-461d-a3a9-3c5aa93e488b
DTSTART:20260207T230000Z
DTEND:20260208T230000Z
LOCATION:Localisation   
CATEGORIES:Sportif
STATUS:
URL;VALUE=URI:https://www.bordsdeviennetriathlon.com/evenements/2026/02/08/natation-aquapolis-course-a-pied-voir-sondage-2396577
END:VEVENT
END:VCALENDAR
