BEGIN:VCALENDAR
VERSION:2.0
PRODID:-//hacksw/handcal//NONSGML v1.0//EN
BEGIN:VEVENT
SUMMARY:Velo Course a pied Salle Antoine Blondin - Groupe Eveil - 14h
UID:1e984d02-86ba-4258-985d-1c8f2dc79edd
DTSTART:20260208T130000Z
DTEND:20260208T140000Z
LOCATION:Localisation   
CATEGORIES:Sportif
STATUS:
URL;VALUE=URI:https://www.bordsdeviennetriathlon.com/evenements/2026/02/08/velo-course-a-pied-salle-antoine-blondin-groupe-eveil-14h-2396574
END:VEVENT
END:VCALENDAR
