BEGIN:VCALENDAR
VERSION:2.0
PRODID:-//hacksw/handcal//NONSGML v1.0//EN
BEGIN:VEVENT
SUMMARY:Chers enfants, pas d'entrainement, c'est les vacances !!!
UID:fd8b0961-fbee-483f-8194-17d92c9e56b7
DTSTART:20260404T220000Z
DTEND:20260405T220000Z
LOCATION:Localisation   
CATEGORIES:Sportif
STATUS:
URL;VALUE=URI:https://www.bordsdeviennetriathlon.com/evenements/2026/04/05/chers-enfants-pas-dentrainement-cest-les-vacances-2437979
END:VEVENT
END:VCALENDAR
