BEGIN:VCALENDAR
VERSION:2.0
PRODID:-//hacksw/handcal//NONSGML v1.0//EN
BEGIN:VEVENT
SUMMARY:Entrainement libre natation pour ados et adultes uniquement - Aixe -
UID:3beba8cd-209a-4efa-bee1-695870ed766c
DTSTART:20260411T180000Z
DTEND:20260411T220000Z
LOCATION:Localisation   
CATEGORIES:Sportif
STATUS:
DESCRIPTION:<p>Thibaut sera present, mais pas d'encadrement de
 l'entrainement, il nagera lui aussi.</p>
URL;VALUE=URI:https://www.bordsdeviennetriathlon.com/evenements/2026/04/11/entrainement-libre-natation-pour-ados-et-adultes-uniquement-aixe-2437980
END:VEVENT
END:VCALENDAR
