BEGIN:VCALENDAR
VERSION:2.0
PRODID:-//hacksw/handcal//NONSGML v1.0//EN
BEGIN:VEVENT
SUMMARY:Natation a Limosin de 18h30 a 19h30
UID:c80951ef-3062-4154-ba1d-3ed364a06083
DTSTART:20260420T163000Z
DTEND:20260420T173000Z
LOCATION:Localisation   
CATEGORIES:Sportif
STATUS:
URL;VALUE=URI:https://www.bordsdeviennetriathlon.com/evenements/2026/04/20/natation-a-limosin-de-18h30-a-19h30-2443059
END:VEVENT
END:VCALENDAR
