BEGIN:VCALENDAR
VERSION:2.0
PRODID:-//hacksw/handcal//NONSGML v1.0//EN
BEGIN:VEVENT
SUMMARY:Course a pied / pentathlon - Cheops - 16h15-17h45
UID:8f564e36-de9c-445f-b54d-44268c11ef1d
DTSTART:20260422T141500Z
DTEND:20260422T154500Z
LOCATION:Localisation   
CATEGORIES:Sportif
STATUS:
URL;VALUE=URI:https://www.bordsdeviennetriathlon.com/evenements/2026/04/22/course-a-pied-pentathlon-cheops-16h15-17h45-2443070
END:VEVENT
END:VCALENDAR
