BEGIN:VCALENDAR
VERSION:2.0
PRODID:-//hacksw/handcal//NONSGML v1.0//EN
BEGIN:VEVENT
SUMMARY:CAP a la piste des Vaseix - ados et adultes
UID:54ce137a-2996-4df8-9322-16360f990cfb
DTSTART:20260423T163000Z
DTEND:20260423T220000Z
LOCATION:Localisation   
CATEGORIES:Sportif
STATUS:
URL;VALUE=URI:https://www.bordsdeviennetriathlon.com/evenements/2026/04/23/cap-a-la-piste-des-vaseix-ados-et-adultes-2443873
END:VEVENT
END:VCALENDAR
