BEGIN:VCALENDAR
VERSION:2.0
PRODID:-//hacksw/handcal//NONSGML v1.0//EN
BEGIN:VEVENT
SUMMARY:***entrainement CAP deplace au jeudi***
UID:25221880-2521-4e3c-a7fc-ea3679df6191
DTSTART:20260423T220000Z
DTEND:20260424T220000Z
LOCATION:Localisation   
CATEGORIES:Sportif
STATUS:
URL;VALUE=URI:https://www.bordsdeviennetriathlon.com/evenements/2026/04/24/entrainement-cap-deplace-au-jeudi-2443874
END:VEVENT
END:VCALENDAR
