BEGIN:VCALENDAR
VERSION:2.0
PRODID:-//hacksw/handcal//NONSGML v1.0//EN
BEGIN:VEVENT
SUMMARY:Natation a Limosin de 18h30 a 19h30
UID:d5ccd6a5-10e8-4d89-b8d5-92e2192c98f2
DTSTART:20260424T163000Z
DTEND:20260424T173000Z
LOCATION:Localisation   
CATEGORIES:Sportif
STATUS:
URL;VALUE=URI:https://www.bordsdeviennetriathlon.com/evenements/2026/04/24/natation-a-limosin-de-18h30-a-19h30-2443063
END:VEVENT
END:VCALENDAR
