BEGIN:VCALENDAR
VERSION:2.0
PRODID:-//hacksw/handcal//NONSGML v1.0//EN
BEGIN:VEVENT
SUMMARY:Pas d'entrainement ce jour, c'est le triathlon de l'Aquapolis !
UID:c1df3903-665b-441c-a04c-83c73f2a3eae
DTSTART:20260424T220000Z
DTEND:20260425T220000Z
LOCATION:Localisation   
CATEGORIES:Sportif
STATUS:
URL;VALUE=URI:https://www.bordsdeviennetriathlon.com/evenements/2026/04/25/pas-dentrainement-ce-jour-cest-le-triathlon-de-laquapolis-2443065
END:VEVENT
END:VCALENDAR
