BEGIN:VCALENDAR
VERSION:2.0
PRODID:-//hacksw/handcal//NONSGML v1.0//EN
BEGIN:VEVENT
SUMMARY:Pas d'entrainement ce jour, c'est le triathlon de l'Aquapolis !
UID:a0e9b915-3be7-4bbb-82d8-d16daa34c55e
DTSTART:20260425T220000Z
DTEND:20260426T220000Z
LOCATION:Localisation   
CATEGORIES:Sportif
STATUS:
URL;VALUE=URI:https://www.bordsdeviennetriathlon.com/evenements/2026/04/26/pas-dentrainement-ce-jour-cest-le-triathlon-de-laquapolis-2443066
END:VEVENT
END:VCALENDAR
